BEGIN:VCALENDAR
VERSION:2.0
BEGIN:VEVENT
DTSTART:20260430T000000Z
DTEND:20260501T000000Z
TITLE:Final Dividend Payment Date
SUMMARY:Final Dividend Payment Date
PRIORITY:3
END:VEVENT
END:VCALENDAR
